BEGIN:VCALENDAR
VERSION:2.0
PRODID:-//Germantown-Homewood - ECPv6.15.20//NONSGML v1.0//EN
CALSCALE:GREGORIAN
METHOD:PUBLISH
X-ORIGINAL-URL:https://germantownhomewood.com
X-WR-CALDESC:Events for Germantown-Homewood
REFRESH-INTERVAL;VALUE=DURATION:PT1H
X-Robots-Tag:noindex
X-PUBLISHED-TTL:PT1H
BEGIN:VTIMEZONE
TZID:America/New_York
BEGIN:DAYLIGHT
TZOFFSETFROM:-0500
TZOFFSETTO:-0400
TZNAME:EDT
DTSTART:20220313T070000
END:DAYLIGHT
BEGIN:STANDARD
TZOFFSETFROM:-0400
TZOFFSETTO:-0500
TZNAME:EST
DTSTART:20221106T060000
END:STANDARD
BEGIN:DAYLIGHT
TZOFFSETFROM:-0500
TZOFFSETTO:-0400
TZNAME:EDT
DTSTART:20230312T070000
END:DAYLIGHT
BEGIN:STANDARD
TZOFFSETFROM:-0400
TZOFFSETTO:-0500
TZNAME:EST
DTSTART:20231105T060000
END:STANDARD
BEGIN:DAYLIGHT
TZOFFSETFROM:-0500
TZOFFSETTO:-0400
TZNAME:EDT
DTSTART:20240310T070000
END:DAYLIGHT
BEGIN:STANDARD
TZOFFSETFROM:-0400
TZOFFSETTO:-0500
TZNAME:EST
DTSTART:20241103T060000
END:STANDARD
END:VTIMEZONE
BEGIN:VEVENT
DTSTART;VALUE=DATE:20231104
DTEND;VALUE=DATE:20231106
DTSTAMP:20260422T020738
CREATED:20230920T133251Z
LAST-MODIFIED:20231017T142100Z
UID:1442-1699056000-1699228799@germantownhomewood.com
SUMMARY:Rivalry Challenge Lacrosse Parking (All Day) at Navy-Marine Corp Memorial Stadium 
DESCRIPTION:See full schedule below for Navy-Marine Corp Memorial Stadium:\n\nSeptember 2023\n• 30th – Saturday – Navy Football vs South Florida (3:30 PM)\n\nOctober 2023\n• 7th – Saturday – Navy Football vs North Texas (3:30 PM)\n• 14th – Saturday – US Bands High School Band Competition (All Day)\n• 21st – Saturday – Navy Football vs Air Force (12 Noon)\n• 28th – Saturday – Navy Football vs Temple (3:30 PM)\n\nNovember 2023\n• 4th – Rivalry Challenge Lacrosse Parking (All Day)\n• 5th – Rivalry Challenge Lacrosse Parking (All Day)\n• 11th – Navy Football vs Alabama Birmingham (3:30 PM)\n• 12th – Bay Bridge Race Parking (6 AM)\n• 18th – Navy Football vs East Carolina (12 Noon)\n• 30th – MPSSAA State Football Championships\n\nDecember 2023\n• 1st – 2nd – MPSSAA State Football Championships\n• 16th – Sunday – Naptown Half Marathon (7:00 AM)\n• 27th – Wednesday – Military Bowl (2:00 PM)\n\nLink to most current calendar: NMCMS Calendar August 7 (PDF) – Naval Academy Athletics (navysports.com)
URL:https://germantownhomewood.com/event/rivalry-challenge-lacrosse-parking-all-day-at-navy-marine-corp-memorial-stadium/
LOCATION:Navy-Marine Corp Memorial Stadium
ATTACH;FMTTYPE=image/jpeg:https://germantownhomewood.com/wp-content/uploads/2023/09/A-Navy-Stadium-DSCN7227-scaled.jpg
END:VEVENT
BEGIN:VEVENT
DTSTART;TZID=America/New_York:20231109T193000
DTEND;TZID=America/New_York:20231109T203000
DTSTAMP:20260422T020738
CREATED:20230920T205902Z
LAST-MODIFIED:20231108T010505Z
UID:1464-1699558200-1699561800@germantownhomewood.com
SUMMARY:GHCA Fall General Membership Meeting and New Bylaws Vote 7:30PM
DESCRIPTION:Join your neighbors for our Fall General Membership Meeting at the Micheal E Busch Annapolis Library to vote on our new bylaws and learn more about the upcoming events and activities your Germantown Homewood community. At the GHCA General Meeting\, on Thursday\, November 9th from 7:30PM – 8:30PM\, we will vote to adopt a new set of bylaws. The bylaws are guidelines for how the organization runs (Think – How often GHCA holds meetings\, what responsibilities the Secretary has\, etc). They are NOT bylaws related to the neighborhood overall. GHCA needs to adopt bylaws to acquire 501(c)4 status. If you are a current GHCA member\, we hope you can attend the meeting and vote for the adoption! Please reach out to us at ghca21401@gmail.com with any questions. \nItems on the meeting agenda:\n\n\nWelcome & Thank Yous\nSummary of 2023 Events \nAdopting Bylaws\nTreasury and Membership Update\nWhat’s happening with the Comprehensive Plan? Poplar Trail?\nPlanning for 2024\nQuestions\, Suggestions\, Future Goals\, & Volunteers\n\n\n\nProposed Bylaws – Germantown-Homewood (germantownhomewood.com)
URL:https://germantownhomewood.com/event/ghca-fall-general-membership-meeting/
LOCATION:Michael E. Busch Annapolis Library\, 1410 West Street\, Annapolis\, MD\, 21401
ATTACH;FMTTYPE=image/jpeg:https://germantownhomewood.com/wp-content/uploads/2022/08/qtq80-Dkx1Ms.jpeg
ORGANIZER;CN="GHCA":MAILTO:ghca21401@gmail.com
END:VEVENT
BEGIN:VEVENT
DTSTART;TZID=America/New_York:20231111T150000
DTEND;TZID=America/New_York:20231111T200000
DTSTAMP:20260422T020738
CREATED:20230920T133323Z
LAST-MODIFIED:20231017T142208Z
UID:1444-1699714800-1699732800@germantownhomewood.com
SUMMARY:Navy Football vs Alabama Birmingham (3:30 PM) at Navy-Marine Corp Memorial Stadium 
DESCRIPTION:See full schedule below for Navy-Marine Corp Memorial Stadium:\n\nSeptember 2023\n• 30th – Saturday – Navy Football vs South Florida (3:30 PM)\n\nOctober 2023\n• 7th – Saturday – Navy Football vs North Texas (3:30 PM)\n• 14th – Saturday – US Bands High School Band Competition (All Day)\n• 21st – Saturday – Navy Football vs Air Force (12 Noon)\n• 28th – Saturday – Navy Football vs Temple (3:30 PM)\n\nNovember 2023\n• 4th – Rivalry Challenge Lacrosse Parking (All Day)\n• 5th – Rivalry Challenge Lacrosse Parking (All Day)\n• 11th – Navy Football vs Alabama Birmingham (3:30 PM)\n• 12th – Bay Bridge Race Parking (6 AM)\n• 18th – Navy Football vs East Carolina (12 Noon)\n• 30th – MPSSAA State Football Championships\n\nDecember 2023\n• 1st – 2nd – MPSSAA State Football Championships\n• 16th – Sunday – Naptown Half Marathon (7:00 AM)\n• 27th – Wednesday – Military Bowl (2:00 PM)\n\nLink to most current calendar: NMCMS Calendar August 7 (PDF) – Naval Academy Athletics (navysports.com)
URL:https://germantownhomewood.com/event/rivalry-challenge-lacrosse-parking-all-day-at-navy-marine-corp-memorial-stadium-2/
LOCATION:Navy-Marine Corp Memorial Stadium
ATTACH;FMTTYPE=image/jpeg:https://germantownhomewood.com/wp-content/uploads/2023/09/A-Navy-Stadium-DSCN7227-scaled.jpg
END:VEVENT
BEGIN:VEVENT
DTSTART;VALUE=DATE:20231112
DTEND;VALUE=DATE:20231113
DTSTAMP:20260422T020738
CREATED:20230920T133641Z
LAST-MODIFIED:20231017T141901Z
UID:1448-1699747200-1699833599@germantownhomewood.com
SUMMARY:Bay Bridge Race Parking (6 AM) at Navy-Marine Corp Memorial Stadium 
DESCRIPTION:See full schedule below for Navy-Marine Corp Memorial Stadium:\n\nSeptember 2023\n• 30th – Saturday – Navy Football vs South Florida (3:30 PM)\n\nOctober 2023\n• 7th – Saturday – Navy Football vs North Texas (3:30 PM)\n• 14th – Saturday – US Bands High School Band Competition (All Day)\n• 21st – Saturday – Navy Football vs Air Force (12 Noon)\n• 28th – Saturday – Navy Football vs Temple (3:30 PM)\n\nNovember 2023\n• 4th – Rivalry Challenge Lacrosse Parking (All Day)\n• 5th – Rivalry Challenge Lacrosse Parking (All Day)\n• 11th – Navy Football vs Alabama Birmingham (3:30 PM)\n• 12th – Bay Bridge Race Parking (6 AM)\n• 18th – Navy Football vs East Carolina (12 Noon)\n• 30th – MPSSAA State Football Championships\n\nDecember 2023\n• 1st – 2nd – MPSSAA State Football Championships\n• 16th – Sunday – Naptown Half Marathon (7:00 AM)\n• 27th – Wednesday – Military Bowl (2:00 PM)\n\nLink to most current calendar: NMCMS Calendar August 7 (PDF) – Naval Academy Athletics (navysports.com)
URL:https://germantownhomewood.com/event/bay-bridge-race-parking-6-am-at-navy-marine-corp-memorial-stadium/
LOCATION:Navy-Marine Corp Memorial Stadium
ATTACH;FMTTYPE=image/jpeg:https://germantownhomewood.com/wp-content/uploads/2023/09/A-Navy-Stadium-DSCN7227-scaled.jpg
END:VEVENT
BEGIN:VEVENT
DTSTART;TZID=America/New_York:20231118T120000
DTEND;TZID=America/New_York:20231118T170000
DTSTAMP:20260422T020738
CREATED:20230920T133749Z
LAST-MODIFIED:20231017T142256Z
UID:1450-1700308800-1700326800@germantownhomewood.com
SUMMARY:Navy Football vs East Carolina (12 Noon) at Navy-Marine Corp Memorial Stadium 
DESCRIPTION:See full schedule below for Navy-Marine Corp Memorial Stadium:\n\nSeptember 2023\n• 30th – Saturday – Navy Football vs South Florida (3:30 PM)\n\nOctober 2023\n• 7th – Saturday – Navy Football vs North Texas (3:30 PM)\n• 14th – Saturday – US Bands High School Band Competition (All Day)\n• 21st – Saturday – Navy Football vs Air Force (12 Noon)\n• 28th – Saturday – Navy Football vs Temple (3:30 PM)\n\nNovember 2023\n• 4th – Rivalry Challenge Lacrosse Parking (All Day)\n• 5th – Rivalry Challenge Lacrosse Parking (All Day)\n• 11th – Navy Football vs Alabama Birmingham (3:30 PM)\n• 12th – Bay Bridge Race Parking (6 AM)\n• 18th – Navy Football vs East Carolina (12 Noon)\n• 30th – MPSSAA State Football Championships\n\nDecember 2023\n• 1st – 2nd – MPSSAA State Football Championships\n• 16th – Sunday – Naptown Half Marathon (7:00 AM)\n• 27th – Wednesday – Military Bowl (2:00 PM)\n\nLink to most current calendar: NMCMS Calendar August 7 (PDF) – Naval Academy Athletics (navysports.com)
URL:https://germantownhomewood.com/event/navy-football-vs-east-carolina-12-noon-at-navy-marine-corp-memorial-stadium/
LOCATION:Navy-Marine Corp Memorial Stadium
ATTACH;FMTTYPE=image/jpeg:https://germantownhomewood.com/wp-content/uploads/2023/09/A-Navy-Stadium-DSCN7227-scaled.jpg
END:VEVENT
BEGIN:VEVENT
DTSTART;VALUE=DATE:20231130
DTEND;VALUE=DATE:20231203
DTSTAMP:20260422T020738
CREATED:20230920T133856Z
LAST-MODIFIED:20231017T142319Z
UID:1452-1701302400-1701561599@germantownhomewood.com
SUMMARY:MPSSAA State Football Championships at Navy-Marine Corp Memorial Stadium 
DESCRIPTION:See full schedule below for Navy-Marine Corp Memorial Stadium:\n\nSeptember 2023\n• 30th – Saturday – Navy Football vs South Florida (3:30 PM)\n\nOctober 2023\n• 7th – Saturday – Navy Football vs North Texas (3:30 PM)\n• 14th – Saturday – US Bands High School Band Competition (All Day)\n• 21st – Saturday – Navy Football vs Air Force (12 Noon)\n• 28th – Saturday – Navy Football vs Temple (3:30 PM)\n\nNovember 2023\n• 4th – Rivalry Challenge Lacrosse Parking (All Day)\n• 5th – Rivalry Challenge Lacrosse Parking (All Day)\n• 11th – Navy Football vs Alabama Birmingham (3:30 PM)\n• 12th – Bay Bridge Race Parking (6 AM)\n• 18th – Navy Football vs East Carolina (12 Noon)\n• 30th – MPSSAA State Football Championships\n\nDecember 2023\n• 1st – 2nd – MPSSAA State Football Championships\n• 16th – Sunday – Naptown Half Marathon (7:00 AM)\n• 27th – Wednesday – Military Bowl (2:00 PM)\n\nLink to most current calendar: NMCMS Calendar August 7 (PDF) – Naval Academy Athletics (navysports.com)
URL:https://germantownhomewood.com/event/mpssaa-state-football-championships-at-navy-marine-corp-memorial-stadium/
LOCATION:Navy-Marine Corp Memorial Stadium
ATTACH;FMTTYPE=image/jpeg:https://germantownhomewood.com/wp-content/uploads/2023/09/A-Navy-Stadium-DSCN7227-scaled.jpg
END:VEVENT
END:VCALENDAR