BEGIN:VCALENDAR
VERSION:2.0
PRODID:-//Germantown-Homewood - ECPv6.15.20//NONSGML v1.0//EN
CALSCALE:GREGORIAN
METHOD:PUBLISH
X-ORIGINAL-URL:https://germantownhomewood.com
X-WR-CALDESC:Events for Germantown-Homewood
REFRESH-INTERVAL;VALUE=DURATION:PT1H
X-Robots-Tag:noindex
X-PUBLISHED-TTL:PT1H
BEGIN:VTIMEZONE
TZID:America/New_York
BEGIN:DAYLIGHT
TZOFFSETFROM:-0500
TZOFFSETTO:-0400
TZNAME:EDT
DTSTART:20220313T070000
END:DAYLIGHT
BEGIN:STANDARD
TZOFFSETFROM:-0400
TZOFFSETTO:-0500
TZNAME:EST
DTSTART:20221106T060000
END:STANDARD
BEGIN:DAYLIGHT
TZOFFSETFROM:-0500
TZOFFSETTO:-0400
TZNAME:EDT
DTSTART:20230312T070000
END:DAYLIGHT
BEGIN:STANDARD
TZOFFSETFROM:-0400
TZOFFSETTO:-0500
TZNAME:EST
DTSTART:20231105T060000
END:STANDARD
BEGIN:DAYLIGHT
TZOFFSETFROM:-0500
TZOFFSETTO:-0400
TZNAME:EDT
DTSTART:20240310T070000
END:DAYLIGHT
BEGIN:STANDARD
TZOFFSETFROM:-0400
TZOFFSETTO:-0500
TZNAME:EST
DTSTART:20241103T060000
END:STANDARD
END:VTIMEZONE
BEGIN:VTIMEZONE
TZID:UTC
BEGIN:STANDARD
TZOFFSETFROM:+0000
TZOFFSETTO:+0000
TZNAME:UTC
DTSTART:20220101T000000
END:STANDARD
END:VTIMEZONE
BEGIN:VEVENT
DTSTART;TZID=America/New_York:20230407T170000
DTEND;TZID=America/New_York:20230407T180000
DTSTAMP:20260421T140149
CREATED:20230404T183656Z
LAST-MODIFIED:20230404T184023Z
UID:1307-1680886800-1680890400@germantownhomewood.com
SUMMARY:AH/Germantown/Homewood Egg Hunt
DESCRIPTION:Please join us for our annual neighborhood Egg Hunt! We will have 3 groups for the kids based off age! Ages 1-3\, 4-6\, and 7+!\nRescheduled to FRIDAY the 7th AT 5PM! Hope we can still have a good turnout Friday!
URL:https://germantownhomewood.com/event/ah-germantown-homewood-easter-egg-hunt/
LOCATION:Studio 39 Circle
ATTACH;FMTTYPE=image/jpeg:https://germantownhomewood.com/wp-content/uploads/2020/07/IMG_BS-CGTH_ac_cm_mytime_2_1_K73I0IMP.jpg
END:VEVENT
BEGIN:VEVENT
DTSTART;VALUE=DATE:20230413
DTEND;VALUE=DATE:20230414
DTSTAMP:20260421T140149
CREATED:20230404T185212Z
LAST-MODIFIED:20230404T190952Z
UID:1308-1681344000-1681430399@germantownhomewood.com
SUMMARY:Germantown Elementary Italian Dinner RSVP Deadline 4/13
DESCRIPTION:Support the 5th Grade Germantown Elementary School Class in their Italian Dinner Fundraiser:\nGermantown Elementary Italian Dinner RSVP (by April 13th) // CENA ITALIANA en Germantown (Responda antes del 13 de abril)\n\n\nEvent: April 20th\, 2023 // Fecha del evento: 20 de abril 2023\n\nPresented by the 5th Grade Class // Presentado por la Clase de 5to Grado\n\nProceeds from ticket sales support 5th grade promotion // Ganancias de la venta ayudan a la clase de 5to!\n\nGrazie Mille!\n\nEvent Address // Localidad del Evento: Germantown Elementary Cafeteria\, 200 Windell Avenue\, Annapolis\, MD 21401\n\nGermantown Elementary Italian Dinner RSVP (by April 13th) CENA ITALIANA en Germantown (Responda antes del 13 de abril) (google.com)\n\nhttps://scontent-iad3-1.xx.fbcdn.net/v/t39.30808-6/338901934_747067593616205_6994064762850578357_n.jpg?_nc_cat=104&ccb=1-7&_nc_sid=dbeb18&_nc_ohc=06SU0mX2dGEAX9u9HbZ&_nc_ht=scontent-iad3-1.xx&oh=00_AfB6Nw8LbibCG87T1TyZXsojRO6SC0-XTS1zwm0uuZ2UFw&oe=64310A50
URL:https://germantownhomewood.com/event/germantown-elementary-italian-dinner-rsvp-deadline-4-13/
LOCATION:Germantown Elementary\, 200 Windell Avenue\, Annapolis\, MD\, 21401
ATTACH;FMTTYPE=image/jpeg:https://germantownhomewood.com/wp-content/uploads/2023/04/Italian-Dinner-335463273_944991953342629_8645905961243519361_n-1.jpg
END:VEVENT
BEGIN:VEVENT
DTSTART;TZID=America/New_York:20230415T090000
DTEND;TZID=America/New_York:20230415T140000
DTSTAMP:20260421T140149
CREATED:20230404T181943Z
LAST-MODIFIED:20230404T182546Z
UID:1297-1681549200-1681567200@germantownhomewood.com
SUMMARY:Sculpture Garden Picnic at the Annapolis Library
DESCRIPTION:Join the Annapolis Arts District and the Busch Annapolis Library to celebrate a new sculpture garden which will feature large metal sculptures by guest artist David Hayes. The sculptures which have been seen around the City of Annapolis for the past year will be moved to the library grounds through the summer so they can all be enjoyed in one place before they move on to another state.\nThroughout the day there will be live music\, kids activities (by Macaroni Kid and ArtFarm Studios)\, self-guided walking tours of the sculpture gardens and a food and ice cream truck.\nThe son of the artist David Hayes will be on site during the event to share stories and answer any questions you may have about the works.\nSo grab your friends and family and a picnic blanket or chairs and join us in the Sycamore Grove (the tree lined area on the side of the building) for a day of food\, fun and art!\nSCHEDULE:\n9-10am: FREE Yoga in the Grove (area on the side of the library)\n10am: Library opens & AZTK food truck on site.\n10-11: Kids Music: SQRRL (Doug Segree)\n11-11:15: Story time with AACPL\n11:15-11:30: Poetry\nNoon-2: Always Ice Cream Truck!\n11:30-12:30: Fiddle Music: Gary and Leah\n12:30-12:45: Story time with AACPL\n1-2: Jazz Music: the Kearse duo\nThis is a FREE and family friendly event.\nFood and ice cream can be purchased from the trucks during the event.\n\nEvent by ArtFarm Annapolis\, Anne Arundel County Public Library and 11 others.\n 
URL:https://germantownhomewood.com/event/sculpture-garden-picnic-at-the-annapolis-library/
LOCATION:Michael E. Busch Annapolis Library\, 1410 West Street\, Annapolis\, MD\, 21401
ATTACH;FMTTYPE=image/jpeg:https://germantownhomewood.com/wp-content/uploads/2020/09/buschannapolis-books1-1.jpg
END:VEVENT
BEGIN:VEVENT
DTSTART;TZID=America/New_York:20230420T171500
DTEND;TZID=America/New_York:20230420T201500
DTSTAMP:20260421T140149
CREATED:20230404T190028Z
LAST-MODIFIED:20230404T190904Z
UID:1318-1682010900-1682021700@germantownhomewood.com
SUMMARY:Germantown Elementary Italian Dinner Event Date April 20th
DESCRIPTION:Support the 5th Grade Germantown Elementary School Class in their Italian Dinner Fundraiser:\nGermantown Elementary Italian Dinner RSVP (by April 13th) // CENA ITALIANA en Germantown (Responda antes del 13 de abril)\n\n\nEvent: April 20th\, 2023 // Fecha del evento: 20 de abril 2023\n\nPresented by the 5th Grade Class // Presentado por la Clase de 5to Grado\n\nProceeds from ticket sales support 5th grade promotion // Ganancias de la venta ayudan a la clase de 5to!\n\nGrazie Mille!\n\nEvent Address // Localidad del Evento: Germantown Elementary Cafeteria\, 200 Windell Avenue\, Annapolis\, MD 21401\n\nGermantown Elementary Italian Dinner RSVP (by April 13th) CENA ITALIANA en Germantown (Responda antes del 13 de abril) (google.com)\n\nhttps://scontent-iad3-1.xx.fbcdn.net/v/t39.30808-6/338901934_747067593616205_6994064762850578357_n.jpg?_nc_cat=104&ccb=1-7&_nc_sid=dbeb18&_nc_ohc=06SU0mX2dGEAX9u9HbZ&_nc_ht=scontent-iad3-1.xx&oh=00_AfB6Nw8LbibCG87T1TyZXsojRO6SC0-XTS1zwm0uuZ2UFw&oe=64310A50
URL:https://germantownhomewood.com/event/germantown-elementary-italian-dinner-event-date-april-20th/
LOCATION:Germantown Elementary\, 200 Windell Avenue\, Annapolis\, MD\, 21401
ATTACH;FMTTYPE=image/jpeg:https://germantownhomewood.com/wp-content/uploads/2023/04/Italian-Dinner-335463273_944991953342629_8645905961243519361_n.jpg
END:VEVENT
BEGIN:VEVENT
DTSTART;VALUE=DATE:20230422
DTEND;VALUE=DATE:20230423
DTSTAMP:20260421T140149
CREATED:20230225T210436Z
LAST-MODIFIED:20230404T191727Z
UID:1236-1682121600-1682207999@germantownhomewood.com
SUMMARY:GreenScape
DESCRIPTION:GreenScape is a City of Annapolis and community partnership investment of beautification\, clean-up\, and planting in public spaces throughout the City (the Annapolis version of Earth Day). For three decades\, hundreds of projects have been initiated and adopted by individuals\, community groups\, and neighborhood associations. GHCA and some neighboring friends have set up special activities within our neighborhood to coordinate with the the City’s GreenScape event. Help us to plan for the day by signing up when and where you’d like to work. It’s a great opportunity to meet your neighbor and work cooperatively toward a community beautification goal! \nThis year’s Greenscape is Saturday\, April 22\, starting at 9:00 am. \nSo\, Gardeners\, Hoist your pruners\, Pull on your gloves\, March to the Mad Song of Spring. For GHCA\, it has been for many\, many years a bacchanalia of clipping\, planting\, mulching\, chit-chat\, having a cold water\, and the satisfaction of seeing our public spaces tended to. \nAll are invited to engage in the following projects: \n\nThe S. Cherry Grove Bridge will be led by Jim Martin. Meet at the bridge at 9 am.\nPoplar and Glen beds will be captained by Bob Waldman; meet at the intersection at 9 am.\nClean-up of Bulletin Board Plaza and the hosta garden under the crepe myrtles is looking for a leader.\nIf there are any other projects you would like to undertake\, please email ghca21401@gmail.com and Customer Service will take prompt care of you.\n\nBy the way\, the City pays for the annual and perennial plants\, shrubs\, trees\, and mulch. A plant list can be viewed here. Orders are due March 8th! We will do the pickup and drop off to your project.
URL:https://germantownhomewood.com/event/greenscape-april-22nd/
ATTACH;FMTTYPE=image/jpeg:https://germantownhomewood.com/wp-content/uploads/2023/02/qtq80-425fOs.jpeg
ORGANIZER;CN="GHCA":MAILTO:ghca21401@gmail.com
END:VEVENT
BEGIN:VEVENT
DTSTART;TZID=America/New_York:20230430T103000
DTEND;TZID=America/New_York:20230430T133000
DTSTAMP:20260421T140149
CREATED:20230404T183010Z
LAST-MODIFIED:20230404T190543Z
UID:1302-1682850600-1682861400@germantownhomewood.com
SUMMARY:78th Annual Flower Mart
DESCRIPTION:Baskets for May Day\, Perennial Plants from Our Gardens\, Treasures from the garden shed and Attic\, Master Gardeners and Bay Wise available. Chevys Food Truck. Proceeds Benefit Community Garden Projects Contact Charlotte Pennington -410-858-7864 or e-mail cpenningtonsc@gmail.com \nFacebook \n 
URL:https://germantownhomewood.com/event/78th-annual-flower-mart/
LOCATION:Maryland Hall\, 801 Chase Street\, Annapolis\, MD\, 21401\, United States
ATTACH;FMTTYPE=image/jpeg:https://germantownhomewood.com/wp-content/uploads/2022/10/qtq80-5GBs1b.jpeg
END:VEVENT
END:VCALENDAR