BEGIN:VCALENDAR
VERSION:2.0
PRODID:-//Germantown-Homewood - ECPv6.15.20//NONSGML v1.0//EN
CALSCALE:GREGORIAN
METHOD:PUBLISH
X-ORIGINAL-URL:https://germantownhomewood.com
X-WR-CALDESC:Events for Germantown-Homewood
REFRESH-INTERVAL;VALUE=DURATION:PT1H
X-Robots-Tag:noindex
X-PUBLISHED-TTL:PT1H
BEGIN:VTIMEZONE
TZID:UTC
BEGIN:STANDARD
TZOFFSETFROM:+0000
TZOFFSETTO:+0000
TZNAME:UTC
DTSTART:20220101T000000
END:STANDARD
END:VTIMEZONE
BEGIN:VEVENT
DTSTART;VALUE=DATE:20230225
DTEND;VALUE=DATE:20230306
DTSTAMP:20260421T104758
CREATED:20230225T203845Z
LAST-MODIFIED:20230225T203845Z
UID:1229-1677283200-1678060799@germantownhomewood.com
SUMMARY:Annapolis Restaurant Week - February 25 - March 5\, 2023
DESCRIPTION:Do you love great food and eating out?  Restaurant Week is here in Annapolis! Going strong now for 16 years\, Restaurant Week runs from February 25 – March 5\, 2023 this year. Two-course breakfasts are priced between $9.95 and $15.95\, a two-course lunch between $12.95 and $19.95\, or a three-course dinner between $29.95 and $39.95\, and carry-out options are available too! Grab your neighborhood friends and schedule a breakfast\, lunch or dinner outing! https://www.visitannapolis.org/blog/stories/post/pull-up-a-seat-restaurant-week-is-back/?fbclid=IwAR0OjW6jMpRElJxXedEm2Gzhlcjz-Nlv_L4OlSdPrvb0Yl2EY-zpgTo_OOA
URL:https://germantownhomewood.com/event/annapolis-restaurant-week-february-25-march-5-2023/
ATTACH;FMTTYPE=image/jpeg:https://germantownhomewood.com/wp-content/uploads/2023/02/qtq80-evKUCr.jpeg
END:VEVENT
END:VCALENDAR