BEGIN:VCALENDAR
VERSION:2.0
PRODID:-//Germantown-Homewood - ECPv6.15.20//NONSGML v1.0//EN
CALSCALE:GREGORIAN
METHOD:PUBLISH
X-WR-CALNAME:Germantown-Homewood
X-ORIGINAL-URL:https://germantownhomewood.com
X-WR-CALDESC:Events for Germantown-Homewood
REFRESH-INTERVAL;VALUE=DURATION:PT1H
X-Robots-Tag:noindex
X-PUBLISHED-TTL:PT1H
BEGIN:VTIMEZONE
TZID:America/New_York
BEGIN:DAYLIGHT
TZOFFSETFROM:-0500
TZOFFSETTO:-0400
TZNAME:EDT
DTSTART:20230312T070000
END:DAYLIGHT
BEGIN:STANDARD
TZOFFSETFROM:-0400
TZOFFSETTO:-0500
TZNAME:EST
DTSTART:20231105T060000
END:STANDARD
BEGIN:DAYLIGHT
TZOFFSETFROM:-0500
TZOFFSETTO:-0400
TZNAME:EDT
DTSTART:20240310T070000
END:DAYLIGHT
BEGIN:STANDARD
TZOFFSETFROM:-0400
TZOFFSETTO:-0500
TZNAME:EST
DTSTART:20241103T060000
END:STANDARD
BEGIN:DAYLIGHT
TZOFFSETFROM:-0500
TZOFFSETTO:-0400
TZNAME:EDT
DTSTART:20250309T070000
END:DAYLIGHT
BEGIN:STANDARD
TZOFFSETFROM:-0400
TZOFFSETTO:-0500
TZNAME:EST
DTSTART:20251102T060000
END:STANDARD
END:VTIMEZONE
BEGIN:VTIMEZONE
TZID:UTC
BEGIN:STANDARD
TZOFFSETFROM:+0000
TZOFFSETTO:+0000
TZNAME:UTC
DTSTART:20240101T000000
END:STANDARD
END:VTIMEZONE
BEGIN:VEVENT
DTSTART;TZID=America/New_York:20240520T180000
DTEND;TZID=America/New_York:20240520T203000
DTSTAMP:20260422T000451
CREATED:20240517T175748Z
LAST-MODIFIED:20240517T181437Z
UID:1509-1716228000-1716237000@germantownhomewood.com
SUMMARY:GHCA Annual Meeting\, Board Election\, and Poplar Trail Meeting
DESCRIPTION:Are you wondering how to get involved? What’s happening with the old Mason’s lot at 1028 West St? What’s happening for July 4th? Want to hear city updates from Alderwomen O’Neill and Pindell Charles? See a preview of our new sign on West Street? Come to the meeting! \n\nWe need you! If you are interested in joining the board or taking on certain roles\, please reply to this email or reach out to nomination committee chair Anne Hamilton.\nWe will nominate and elect board members at the meeting\, too.\nThere will be pizza and soda with the earlier start time.\n\nGHCA will also host the City of Annapolis staff and design consultants immediately following the annual meeting. \nThe City has been updating the tree survey and plans after feedback at the January 30th meeting. They would like to meet with the community again on May 20th to share updated plans. You can review the January 30th version of the 30% Design Plans\, Placemaking Exhibits\, and Forest Delineation Plans here: \nhttps://www.annapolis.gov/DocumentCenter/View/25809/Poplar-Trail-West-Extension-30-Percent-Design \nhttps://www.annapolis.gov/DocumentCenter/View/29266/WEE—Poplar-Trail-Placemaking-Exhibit-13024 \nhttps://www.annapolis.gov/DocumentCenter/View/29268/Poplar-Trail-Exhibit-FSD-Plans-8212023 \nCity FAQ page here \nEveryone is encouraged to review the current materials and send in their feedback! Send an email to Casey Ortiz at CSORTIZ@ANNAPOLIS.GOV.
URL:https://germantownhomewood.com/event/ghca-annual-meeting-and-poplar-trail-meeting/
LOCATION:Michael E. Busch Annapolis Library\, 1410 West Street\, Annapolis\, MD\, 21401
ATTACH;FMTTYPE=image/jpeg:https://germantownhomewood.com/wp-content/uploads/2024/05/pizza-aac58ee9-eddd-6b15-b86c-ffa11038c0db-1.jpeg
END:VEVENT
BEGIN:VEVENT
DTSTART;TZID=UTC:20250704T090000
DTEND;TZID=UTC:20250704T233000
DTSTAMP:20260422T000451
CREATED:20250623T185531Z
LAST-MODIFIED:20250623T185923Z
UID:1538-1751619600-1751671800@germantownhomewood.com
SUMMARY:4th of July Party
DESCRIPTION:Celebration and Bike Parade for the 4th of July at the Playground/Picnic Area near Studio 39. \n9 AM Decorate Bikes \nEnjoy Bagels\, Donuts and Iced Coffee Bar \nBike Parade at 10:30 Am \nKona Ice to Follow
URL:https://germantownhomewood.com/event/4th-of-july-party/
LOCATION:Studio 39 Circle
ORGANIZER;CN="GHCA":MAILTO:ghca21401@gmail.com
END:VEVENT
END:VCALENDAR