BEGIN:VCALENDAR
VERSION:2.0
PRODID:-//Germantown-Homewood - ECPv6.15.20//NONSGML v1.0//EN
CALSCALE:GREGORIAN
METHOD:PUBLISH
X-WR-CALNAME:Germantown-Homewood
X-ORIGINAL-URL:https://germantownhomewood.com
X-WR-CALDESC:Events for Germantown-Homewood
REFRESH-INTERVAL;VALUE=DURATION:PT1H
X-Robots-Tag:noindex
X-PUBLISHED-TTL:PT1H
BEGIN:VTIMEZONE
TZID:UTC
BEGIN:STANDARD
TZOFFSETFROM:+0000
TZOFFSETTO:+0000
TZNAME:UTC
DTSTART:20210101T000000
END:STANDARD
END:VTIMEZONE
BEGIN:VTIMEZONE
TZID:America/New_York
BEGIN:DAYLIGHT
TZOFFSETFROM:-0500
TZOFFSETTO:-0400
TZNAME:EDT
DTSTART:20210314T070000
END:DAYLIGHT
BEGIN:STANDARD
TZOFFSETFROM:-0400
TZOFFSETTO:-0500
TZNAME:EST
DTSTART:20211107T060000
END:STANDARD
BEGIN:DAYLIGHT
TZOFFSETFROM:-0500
TZOFFSETTO:-0400
TZNAME:EDT
DTSTART:20220313T070000
END:DAYLIGHT
BEGIN:STANDARD
TZOFFSETFROM:-0400
TZOFFSETTO:-0500
TZNAME:EST
DTSTART:20221106T060000
END:STANDARD
BEGIN:DAYLIGHT
TZOFFSETFROM:-0500
TZOFFSETTO:-0400
TZNAME:EDT
DTSTART:20230312T070000
END:DAYLIGHT
BEGIN:STANDARD
TZOFFSETFROM:-0400
TZOFFSETTO:-0500
TZNAME:EST
DTSTART:20231105T060000
END:STANDARD
END:VTIMEZONE
BEGIN:VEVENT
DTSTART;VALUE=DATE:20220406
DTEND;VALUE=DATE:20220414
DTSTAMP:20260422T004412
CREATED:20220406T235456Z
LAST-MODIFIED:20220414T182743Z
UID:977-1649203200-1649894399@germantownhomewood.com
SUMMARY:April 24th Deadline for Community Volunteers to Sign Up to Attend ADP Community Safety Meeting on April 28th at 1:30PM
DESCRIPTION:GHCA is looking for 2 more volunteers to attend and represent the GHCA community at a meeting with the Annapolis Police Department (APD) regarding an overview on what the city is doing to address increasing concerns regarding city crime.  The meeting is scheduled on April 28th at 1:30PM at the office of Emergency Management\, 199 Taylor Avenue (located on far right side) Annapolis\, MD 21401. We need to provide a list of attendees by Monday April 25th. If the meeting does not provide enough details on what is being done in our wards\, Wards 2 and 3\, we will request a private meeting with the APD. If you are interested in this volunteer roll\, please send an email to: ghca21401@gmail.com\, referencing this volunteer role\, with your name\, address\, email\, and phone number\, so Conor Miller may reach out to you\, if selected.  It is possible you may be asked to attend any additional meetings regarding this topic as a representative for the community\, in the future\, as part of this roll. \n  \n 
URL:https://germantownhomewood.com/event/deadline-for-community-volunteers-to-attend-adp-community-safety-meeting-on-april-28th-at-130pm/
ATTACH;FMTTYPE=image/jpeg:https://germantownhomewood.com/wp-content/uploads/2020/07/police.jpeg
ORGANIZER;CN="GHCA":MAILTO:ghca21401@gmail.com
END:VEVENT
BEGIN:VEVENT
DTSTART;TZID=America/New_York:20220405T190000
DTEND;TZID=America/New_York:20220405T203000
DTSTAMP:20260422T004412
CREATED:20220119T202940Z
LAST-MODIFIED:20220406T182325Z
UID:823-1649185200-1649190600@germantownhomewood.com
SUMMARY:Annual GHCA General Membership Meeting 7:00PM Tonight\, April 5th
DESCRIPTION:GHCA Annual Meeting is Tuesday\, April 5 at 7pm – Annapolis Library! \nCome join your neighbors and GHCA Board at the Annual GHCA Membership meeting.  Find out what’s happening in your community\, meet some neighbors\, and find out how you can get involved in your community association.  You can come in person or join us via an online link. \nThere will be a Zoom option for those unable to attend in person.\nWe will be electing new Board Members for 2022-23 and would love some new additions!\nThe positions do not require a lot of time\, just a love of our wonderful neighborhood and a desire to build on all the great things we are doing!\nLet us know that you are interested in serving on the board by filling out the brief form below or by emailing ghca21401 at gmail.com\nAbout GHCA:\n\nThe Germantown Homewood Community Association (GHCA) is a volunteer-run organization that connects its residents through social events\, community improvement projects\, and periodical newsletters\, and serves as a contact point with Annapolis city officials to disseminate information to its members. \nThe GHCA Elected officers and Board support the mission by… \n\n\n\nMeeting monthly to plan upcoming events both established and new\n\n\nDetermine fundraising goals and how to best use GHCA funds\n\n\nBrainstorm beautification projects including Greenscape and Poplar Park Projects\n\n\nWork with the City toward neighborhood improvements\n\n\nBoard consists of: President\, Vice-President\, Secretary\, and Treasurer\n\n\nSteering Committee: a variety of neighbors with different tasks and interests that pertain to the neighborhood\n\n\nA more detailed description of the board roles can be found below as well.\nhttps://us4.campaign-archive.com/…\n\nHope to see you there!\nhttps://docs.google.com/…/1FAIpQLSc7x5y1YgZFjN…/viewform\n\n\n\n\n\n\n\n\n\n\n\n\n\nZoom Link: https://us02web.zoom.us/j/85936556999… or cut and paste to your browser: https://us02web.zoom.us/j/85936556999?pwd=dUl3UXJJcHdwZEVGWVpYaVZ2Y0JIUT09&fbclid=IwAR1uXKerZTMBRmqImgM02kav4CsAx9XbW4LA_l3flAtYPDuIKRKqkIObnrE#success\n\n\n\nIf you haven’t had time join the association with your online payment yet and are ready to join or update your payment for 2022\, please feel free to bring your membership check to the meeting\, our Treasurer will be available to collect the membership checks.  We appreciate your support.
URL:https://germantownhomewood.com/event/annual-ghca-general-membership-meeting/
LOCATION:Michael E. Busch Annapolis Library\, 1410 West Street\, Annapolis\, MD\, 21401
ATTACH;FMTTYPE=image/jpeg:https://germantownhomewood.com/wp-content/uploads/2020/09/buschannapolis-books1-1.jpg
ORGANIZER;CN="GHCA":MAILTO:ghca21401@gmail.com
END:VEVENT
BEGIN:VEVENT
DTSTART;TZID=UTC:20220209T190000
DTEND;TZID=UTC:20220209T200000
DTSTAMP:20260422T004412
CREATED:20220119T211510Z
LAST-MODIFIED:20220128T202529Z
UID:835-1644433200-1644436800@germantownhomewood.com
SUMMARY:Poplar Park Trail Path Meeting
DESCRIPTION:Poplar Park contains the Poplar Park Path. The City wants to extend the Poplar Park Path beyond Admiral Drive and connect it to the hospital\, the shopping center\, the Mall\, and beyond to Waterworks Park and have received a design grant for this. \nEric Leshinsky\, the Chief of Comprehensive Planning in the City Planning Department\, will meet with us on Wednesday\, February 9 at the Library beginning at 7 pm. He will inform us of the current status of the plans and he will solicit feedback\, suggestions\, goals\, and concerns from us. \nThis is the opportunity to ask questions regarding the potential for more traffic\, the possibility of widening the path\, separating bicyclists\, improving stormwater management\, and working towards long-term plans for trees and shrubs. We have the chance to get involved before the plans are made. Join the meeting to listen and learn\, ask questions\, and shape the future of the path.  Walk the path\, in advance\, at your leisure and think about what changes or repairs you might want in the Park. \nThe meeting will be in-person and virtual: \nJoin Zoom Meeting (cut and paste the link below\, if clicking on the link doesn’t work)\nhttps://us02web.zoom.us/j/7275512688?pwd=cFpzNE9hdmdLWEk5RXRGNmNNR2NyZz09\nMeeting ID: 727 551 2688\nPasscode: 123456 \nDial-In: 1-301-715-8592 \nMeeting ID: 727 551 2688\nPasscode: 123456
URL:https://germantownhomewood.com/event/poplar-park-trail-path-meeting/
LOCATION:Michael E. Busch Annapolis Library\, 1410 West Street\, Annapolis\, MD\, 21401
END:VEVENT
END:VCALENDAR