BEGIN:VCALENDAR
VERSION:2.0
PRODID:-//Germantown-Homewood - ECPv6.15.20//NONSGML v1.0//EN
CALSCALE:GREGORIAN
METHOD:PUBLISH
X-WR-CALNAME:Germantown-Homewood
X-ORIGINAL-URL:https://germantownhomewood.com
X-WR-CALDESC:Events for Germantown-Homewood
REFRESH-INTERVAL;VALUE=DURATION:PT1H
X-Robots-Tag:noindex
X-PUBLISHED-TTL:PT1H
BEGIN:VTIMEZONE
TZID:UTC
BEGIN:STANDARD
TZOFFSETFROM:+0000
TZOFFSETTO:+0000
TZNAME:UTC
DTSTART:20210101T000000
END:STANDARD
END:VTIMEZONE
BEGIN:VEVENT
DTSTART;TZID=UTC:20220209T190000
DTEND;TZID=UTC:20220209T200000
DTSTAMP:20260422T021314
CREATED:20220119T211510Z
LAST-MODIFIED:20220128T202529Z
UID:835-1644433200-1644436800@germantownhomewood.com
SUMMARY:Poplar Park Trail Path Meeting
DESCRIPTION:Poplar Park contains the Poplar Park Path. The City wants to extend the Poplar Park Path beyond Admiral Drive and connect it to the hospital\, the shopping center\, the Mall\, and beyond to Waterworks Park and have received a design grant for this. \nEric Leshinsky\, the Chief of Comprehensive Planning in the City Planning Department\, will meet with us on Wednesday\, February 9 at the Library beginning at 7 pm. He will inform us of the current status of the plans and he will solicit feedback\, suggestions\, goals\, and concerns from us. \nThis is the opportunity to ask questions regarding the potential for more traffic\, the possibility of widening the path\, separating bicyclists\, improving stormwater management\, and working towards long-term plans for trees and shrubs. We have the chance to get involved before the plans are made. Join the meeting to listen and learn\, ask questions\, and shape the future of the path.  Walk the path\, in advance\, at your leisure and think about what changes or repairs you might want in the Park. \nThe meeting will be in-person and virtual: \nJoin Zoom Meeting (cut and paste the link below\, if clicking on the link doesn’t work)\nhttps://us02web.zoom.us/j/7275512688?pwd=cFpzNE9hdmdLWEk5RXRGNmNNR2NyZz09\nMeeting ID: 727 551 2688\nPasscode: 123456 \nDial-In: 1-301-715-8592 \nMeeting ID: 727 551 2688\nPasscode: 123456
URL:https://germantownhomewood.com/event/poplar-park-trail-path-meeting/
LOCATION:Michael E. Busch Annapolis Library\, 1410 West Street\, Annapolis\, MD\, 21401
END:VEVENT
END:VCALENDAR