BEGIN:VCALENDAR
VERSION:2.0
PRODID:-//Germantown-Homewood - ECPv6.15.20//NONSGML v1.0//EN
CALSCALE:GREGORIAN
METHOD:PUBLISH
X-WR-CALNAME:Germantown-Homewood
X-ORIGINAL-URL:https://germantownhomewood.com
X-WR-CALDESC:Events for Germantown-Homewood
REFRESH-INTERVAL;VALUE=DURATION:PT1H
X-Robots-Tag:noindex
X-PUBLISHED-TTL:PT1H
BEGIN:VTIMEZONE
TZID:America/New_York
BEGIN:DAYLIGHT
TZOFFSETFROM:-0500
TZOFFSETTO:-0400
TZNAME:EDT
DTSTART:20220313T070000
END:DAYLIGHT
BEGIN:STANDARD
TZOFFSETFROM:-0400
TZOFFSETTO:-0500
TZNAME:EST
DTSTART:20221106T060000
END:STANDARD
BEGIN:DAYLIGHT
TZOFFSETFROM:-0500
TZOFFSETTO:-0400
TZNAME:EDT
DTSTART:20230312T070000
END:DAYLIGHT
BEGIN:STANDARD
TZOFFSETFROM:-0400
TZOFFSETTO:-0500
TZNAME:EST
DTSTART:20231105T060000
END:STANDARD
BEGIN:DAYLIGHT
TZOFFSETFROM:-0500
TZOFFSETTO:-0400
TZNAME:EDT
DTSTART:20240310T070000
END:DAYLIGHT
BEGIN:STANDARD
TZOFFSETFROM:-0400
TZOFFSETTO:-0500
TZNAME:EST
DTSTART:20241103T060000
END:STANDARD
BEGIN:DAYLIGHT
TZOFFSETFROM:-0500
TZOFFSETTO:-0400
TZNAME:EDT
DTSTART:20250309T070000
END:DAYLIGHT
BEGIN:STANDARD
TZOFFSETFROM:-0400
TZOFFSETTO:-0500
TZNAME:EST
DTSTART:20251102T060000
END:STANDARD
END:VTIMEZONE
BEGIN:VTIMEZONE
TZID:UTC
BEGIN:STANDARD
TZOFFSETFROM:+0000
TZOFFSETTO:+0000
TZNAME:UTC
DTSTART:20240101T000000
END:STANDARD
END:VTIMEZONE
BEGIN:VEVENT
DTSTART;VALUE=DATE:20231130
DTEND;VALUE=DATE:20231203
DTSTAMP:20260422T003202
CREATED:20230920T133856Z
LAST-MODIFIED:20231017T142319Z
UID:1452-1701302400-1701561599@germantownhomewood.com
SUMMARY:MPSSAA State Football Championships at Navy-Marine Corp Memorial Stadium 
DESCRIPTION:See full schedule below for Navy-Marine Corp Memorial Stadium:\n\nSeptember 2023\n• 30th – Saturday – Navy Football vs South Florida (3:30 PM)\n\nOctober 2023\n• 7th – Saturday – Navy Football vs North Texas (3:30 PM)\n• 14th – Saturday – US Bands High School Band Competition (All Day)\n• 21st – Saturday – Navy Football vs Air Force (12 Noon)\n• 28th – Saturday – Navy Football vs Temple (3:30 PM)\n\nNovember 2023\n• 4th – Rivalry Challenge Lacrosse Parking (All Day)\n• 5th – Rivalry Challenge Lacrosse Parking (All Day)\n• 11th – Navy Football vs Alabama Birmingham (3:30 PM)\n• 12th – Bay Bridge Race Parking (6 AM)\n• 18th – Navy Football vs East Carolina (12 Noon)\n• 30th – MPSSAA State Football Championships\n\nDecember 2023\n• 1st – 2nd – MPSSAA State Football Championships\n• 16th – Sunday – Naptown Half Marathon (7:00 AM)\n• 27th – Wednesday – Military Bowl (2:00 PM)\n\nLink to most current calendar: NMCMS Calendar August 7 (PDF) – Naval Academy Athletics (navysports.com)
URL:https://germantownhomewood.com/event/mpssaa-state-football-championships-at-navy-marine-corp-memorial-stadium/
LOCATION:Navy-Marine Corp Memorial Stadium
ATTACH;FMTTYPE=image/jpeg:https://germantownhomewood.com/wp-content/uploads/2023/09/A-Navy-Stadium-DSCN7227-scaled.jpg
END:VEVENT
BEGIN:VEVENT
DTSTART;TZID=America/New_York:20231216T070000
DTEND;TZID=America/New_York:20231216T140000
DTSTAMP:20260422T003202
CREATED:20230920T134025Z
LAST-MODIFIED:20231017T142348Z
UID:1454-1702710000-1702735200@germantownhomewood.com
SUMMARY:Naptown Half Marathon (7:00 AM) at Navy-Marine Corp Memorial Stadium 
DESCRIPTION:See full schedule below for Navy-Marine Corp Memorial Stadium:\n\nSeptember 2023\n• 30th – Saturday – Navy Football vs South Florida (3:30 PM)\n\nOctober 2023\n• 7th – Saturday – Navy Football vs North Texas (3:30 PM)\n• 14th – Saturday – US Bands High School Band Competition (All Day)\n• 21st – Saturday – Navy Football vs Air Force (12 Noon)\n• 28th – Saturday – Navy Football vs Temple (3:30 PM)\n\nNovember 2023\n• 4th – Rivalry Challenge Lacrosse Parking (All Day)\n• 5th – Rivalry Challenge Lacrosse Parking (All Day)\n• 11th – Navy Football vs Alabama Birmingham (3:30 PM)\n• 12th – Bay Bridge Race Parking (6 AM)\n• 18th – Navy Football vs East Carolina (12 Noon)\n• 30th – MPSSAA State Football Championships\n\nDecember 2023\n• 1st – 2nd – MPSSAA State Football Championships\n• 16th – Sunday – Naptown Half Marathon (7:00 AM)\n• 27th – Wednesday – Military Bowl (2:00 PM)\n\nLink to most current calendar: NMCMS Calendar August 7 (PDF) – Naval Academy Athletics (navysports.com)
URL:https://germantownhomewood.com/event/mpssaa-state-football-championships-at-navy-marine-corp-memorial-stadium-2/
LOCATION:Navy-Marine Corp Memorial Stadium
ATTACH;FMTTYPE=image/jpeg:https://germantownhomewood.com/wp-content/uploads/2023/09/A-Navy-Stadium-DSCN7227-scaled.jpg
END:VEVENT
BEGIN:VEVENT
DTSTART;TZID=America/New_York:20231227T140000
DTEND;TZID=America/New_York:20231227T200000
DTSTAMP:20260422T003202
CREATED:20230920T134344Z
LAST-MODIFIED:20231017T142404Z
UID:1457-1703685600-1703707200@germantownhomewood.com
SUMMARY:Military Bowl (2:00 PM) at Navy-Marine Corp Memorial Stadium 
DESCRIPTION:See full schedule below for Navy-Marine Corp Memorial Stadium:\n\nSeptember 2023\n• 30th – Saturday – Navy Football vs South Florida (3:30 PM)\n\nOctober 2023\n• 7th – Saturday – Navy Football vs North Texas (3:30 PM)\n• 14th – Saturday – US Bands High School Band Competition (All Day)\n• 21st – Saturday – Navy Football vs Air Force (12 Noon)\n• 28th – Saturday – Navy Football vs Temple (3:30 PM)\n\nNovember 2023\n• 4th – Rivalry Challenge Lacrosse Parking (All Day)\n• 5th – Rivalry Challenge Lacrosse Parking (All Day)\n• 11th – Navy Football vs Alabama Birmingham (3:30 PM)\n• 12th – Bay Bridge Race Parking (6 AM)\n• 18th – Navy Football vs East Carolina (12 Noon)\n• 30th – MPSSAA State Football Championships\n\nDecember 2023\n• 1st – 2nd – MPSSAA State Football Championships\n• 16th – Sunday – Naptown Half Marathon (7:00 AM)\n• 27th – Wednesday – Military Bowl (2:00 PM)\n\nLink to most current calendar: NMCMS Calendar August 7 (PDF) – Naval Academy Athletics (navysports.com)
URL:https://germantownhomewood.com/event/military-bowl-200-pm-at-navy-marine-corp-memorial-stadium/
LOCATION:Navy-Marine Corp Memorial Stadium
ATTACH;FMTTYPE=image/jpeg:https://germantownhomewood.com/wp-content/uploads/2023/09/A-Navy-Stadium-DSCN7227-scaled.jpg
END:VEVENT
BEGIN:VEVENT
DTSTART;TZID=America/New_York:20240130T190000
DTEND;TZID=America/New_York:20240130T203000
DTSTAMP:20260422T003202
CREATED:20240108T212930Z
LAST-MODIFIED:20240121T165431Z
UID:1491-1706641200-1706646600@germantownhomewood.com
SUMMARY:Poplar Trail Update and Amenity Features Meeting January 30th at 7 pm
DESCRIPTION:Join your neighbors for a Poplar Trail Community update meeting with the City of Annapolis. The City planners will be discussing lighting specifics and the amenity features. Come to hear current updates\, ask questions\, and share feedback.\n\n\nIf you were not able to attend the meeting on October 17th\, you can view the slides at this link. https://drive.google.com/…/10EjXvKj1aeN…/view…\n\n\nComments or questions can be sent by email at any time to City planning staff. Please direct comments to both csortiz@annapolis.gov and ejleshinsky@annapolis.gov.\n\n\nFor more context\, you can watch a past live stream from October 3\, 2023\, on the West East Express.\n\n\nFollow along with the entire West-East Express Trail project here: https://www.annapolis.gov/2116/West-East-Express-Trail\n\n\nGHCA Poplar Trail Meeting\n\n\nTuesday\, January 30th\, 7 pm\n\n\nBusch Annapolis Library
URL:https://germantownhomewood.com/event/poplar-trail-meeting-january-30th-at-7-pm/
LOCATION:Michael E. Busch Annapolis Library\, 1410 West Street\, Annapolis\, MD\, 21401
ATTACH;FMTTYPE=image/jpeg:https://germantownhomewood.com/wp-content/uploads/2023/01/qtq80-ejbLDc.jpeg
ORGANIZER;CN="GHCA":MAILTO:ghca21401@gmail.com
END:VEVENT
BEGIN:VEVENT
DTSTART;TZID=America/New_York:20240207T190000
DTEND;TZID=America/New_York:20240207T200000
DTSTAMP:20260422T003202
CREATED:20240121T164345Z
LAST-MODIFIED:20240121T165315Z
UID:1497-1707332400-1707336000@germantownhomewood.com
SUMMARY:Save Our Trees Educational Meeting February 7th at 7 pm
DESCRIPTION:Join neighbors and other City of Annapolis community members at the re-scheduled Save Our Trees\, a group of citizens\, neighbors\, and friends who have come together to address the significant problem of English ivy and other invasive vines destroying our mature canopy trees\, for an educational and informative meeting regarding our goal to achieve a 50% tree canopy by 2040.  See flyer below for details and speaker lineup:
URL:https://germantownhomewood.com/event/poplar-trail-meeting-january-30th-at-7-pm-2/
LOCATION:Michael E. Busch Annapolis Library\, 1410 West Street\, Annapolis\, MD\, 21401
ATTACH;FMTTYPE=image/jpeg:https://germantownhomewood.com/wp-content/uploads/2024/01/Save-our-Trees-Flyer-421030411_10232381285739967_7845071837823184461_n.jpg
ORGANIZER;CN="Save Our Trees":MAILTO:saveourtreestogether@gmail.com 
END:VEVENT
BEGIN:VEVENT
DTSTART;TZID=America/New_York:20240520T180000
DTEND;TZID=America/New_York:20240520T203000
DTSTAMP:20260422T003202
CREATED:20240517T175748Z
LAST-MODIFIED:20240517T181437Z
UID:1509-1716228000-1716237000@germantownhomewood.com
SUMMARY:GHCA Annual Meeting\, Board Election\, and Poplar Trail Meeting
DESCRIPTION:Are you wondering how to get involved? What’s happening with the old Mason’s lot at 1028 West St? What’s happening for July 4th? Want to hear city updates from Alderwomen O’Neill and Pindell Charles? See a preview of our new sign on West Street? Come to the meeting! \n\nWe need you! If you are interested in joining the board or taking on certain roles\, please reply to this email or reach out to nomination committee chair Anne Hamilton.\nWe will nominate and elect board members at the meeting\, too.\nThere will be pizza and soda with the earlier start time.\n\nGHCA will also host the City of Annapolis staff and design consultants immediately following the annual meeting. \nThe City has been updating the tree survey and plans after feedback at the January 30th meeting. They would like to meet with the community again on May 20th to share updated plans. You can review the January 30th version of the 30% Design Plans\, Placemaking Exhibits\, and Forest Delineation Plans here: \nhttps://www.annapolis.gov/DocumentCenter/View/25809/Poplar-Trail-West-Extension-30-Percent-Design \nhttps://www.annapolis.gov/DocumentCenter/View/29266/WEE—Poplar-Trail-Placemaking-Exhibit-13024 \nhttps://www.annapolis.gov/DocumentCenter/View/29268/Poplar-Trail-Exhibit-FSD-Plans-8212023 \nCity FAQ page here \nEveryone is encouraged to review the current materials and send in their feedback! Send an email to Casey Ortiz at CSORTIZ@ANNAPOLIS.GOV.
URL:https://germantownhomewood.com/event/ghca-annual-meeting-and-poplar-trail-meeting/
LOCATION:Michael E. Busch Annapolis Library\, 1410 West Street\, Annapolis\, MD\, 21401
ATTACH;FMTTYPE=image/jpeg:https://germantownhomewood.com/wp-content/uploads/2024/05/pizza-aac58ee9-eddd-6b15-b86c-ffa11038c0db-1.jpeg
END:VEVENT
BEGIN:VEVENT
DTSTART;TZID=UTC:20250704T090000
DTEND;TZID=UTC:20250704T233000
DTSTAMP:20260422T003202
CREATED:20250623T185531Z
LAST-MODIFIED:20250623T185923Z
UID:1538-1751619600-1751671800@germantownhomewood.com
SUMMARY:4th of July Party
DESCRIPTION:Celebration and Bike Parade for the 4th of July at the Playground/Picnic Area near Studio 39. \n9 AM Decorate Bikes \nEnjoy Bagels\, Donuts and Iced Coffee Bar \nBike Parade at 10:30 Am \nKona Ice to Follow
URL:https://germantownhomewood.com/event/4th-of-july-party/
LOCATION:Studio 39 Circle
ORGANIZER;CN="GHCA":MAILTO:ghca21401@gmail.com
END:VEVENT
END:VCALENDAR