BEGIN:VCALENDAR
VERSION:2.0
PRODID:-//Germantown-Homewood - ECPv6.15.20//NONSGML v1.0//EN
CALSCALE:GREGORIAN
METHOD:PUBLISH
X-ORIGINAL-URL:https://germantownhomewood.com
X-WR-CALDESC:Events for Germantown-Homewood
REFRESH-INTERVAL;VALUE=DURATION:PT1H
X-Robots-Tag:noindex
X-PUBLISHED-TTL:PT1H
BEGIN:VTIMEZONE
TZID:America/New_York
BEGIN:DAYLIGHT
TZOFFSETFROM:-0500
TZOFFSETTO:-0400
TZNAME:EDT
DTSTART:20220313T070000
END:DAYLIGHT
BEGIN:STANDARD
TZOFFSETFROM:-0400
TZOFFSETTO:-0500
TZNAME:EST
DTSTART:20221106T060000
END:STANDARD
BEGIN:DAYLIGHT
TZOFFSETFROM:-0500
TZOFFSETTO:-0400
TZNAME:EDT
DTSTART:20230312T070000
END:DAYLIGHT
BEGIN:STANDARD
TZOFFSETFROM:-0400
TZOFFSETTO:-0500
TZNAME:EST
DTSTART:20231105T060000
END:STANDARD
BEGIN:DAYLIGHT
TZOFFSETFROM:-0500
TZOFFSETTO:-0400
TZNAME:EDT
DTSTART:20240310T070000
END:DAYLIGHT
BEGIN:STANDARD
TZOFFSETFROM:-0400
TZOFFSETTO:-0500
TZNAME:EST
DTSTART:20241103T060000
END:STANDARD
END:VTIMEZONE
BEGIN:VEVENT
DTSTART;VALUE=DATE:20231104
DTEND;VALUE=DATE:20231106
DTSTAMP:20260422T020727
CREATED:20230920T133251Z
LAST-MODIFIED:20231017T142100Z
UID:1442-1699056000-1699228799@germantownhomewood.com
SUMMARY:Rivalry Challenge Lacrosse Parking (All Day) at Navy-Marine Corp Memorial Stadium 
DESCRIPTION:See full schedule below for Navy-Marine Corp Memorial Stadium:\n\nSeptember 2023\n• 30th – Saturday – Navy Football vs South Florida (3:30 PM)\n\nOctober 2023\n• 7th – Saturday – Navy Football vs North Texas (3:30 PM)\n• 14th – Saturday – US Bands High School Band Competition (All Day)\n• 21st – Saturday – Navy Football vs Air Force (12 Noon)\n• 28th – Saturday – Navy Football vs Temple (3:30 PM)\n\nNovember 2023\n• 4th – Rivalry Challenge Lacrosse Parking (All Day)\n• 5th – Rivalry Challenge Lacrosse Parking (All Day)\n• 11th – Navy Football vs Alabama Birmingham (3:30 PM)\n• 12th – Bay Bridge Race Parking (6 AM)\n• 18th – Navy Football vs East Carolina (12 Noon)\n• 30th – MPSSAA State Football Championships\n\nDecember 2023\n• 1st – 2nd – MPSSAA State Football Championships\n• 16th – Sunday – Naptown Half Marathon (7:00 AM)\n• 27th – Wednesday – Military Bowl (2:00 PM)\n\nLink to most current calendar: NMCMS Calendar August 7 (PDF) – Naval Academy Athletics (navysports.com)
URL:https://germantownhomewood.com/event/rivalry-challenge-lacrosse-parking-all-day-at-navy-marine-corp-memorial-stadium/
LOCATION:Navy-Marine Corp Memorial Stadium
ATTACH;FMTTYPE=image/jpeg:https://germantownhomewood.com/wp-content/uploads/2023/09/A-Navy-Stadium-DSCN7227-scaled.jpg
END:VEVENT
END:VCALENDAR