BEGIN:VCALENDAR
VERSION:2.0
PRODID:-//Germantown-Homewood - ECPv6.15.20//NONSGML v1.0//EN
CALSCALE:GREGORIAN
METHOD:PUBLISH
X-ORIGINAL-URL:https://germantownhomewood.com
X-WR-CALDESC:Events for Germantown-Homewood
REFRESH-INTERVAL;VALUE=DURATION:PT1H
X-Robots-Tag:noindex
X-PUBLISHED-TTL:PT1H
BEGIN:VTIMEZONE
TZID:America/New_York
BEGIN:DAYLIGHT
TZOFFSETFROM:-0500
TZOFFSETTO:-0400
TZNAME:EDT
DTSTART:20220313T070000
END:DAYLIGHT
BEGIN:STANDARD
TZOFFSETFROM:-0400
TZOFFSETTO:-0500
TZNAME:EST
DTSTART:20221106T060000
END:STANDARD
BEGIN:DAYLIGHT
TZOFFSETFROM:-0500
TZOFFSETTO:-0400
TZNAME:EDT
DTSTART:20230312T070000
END:DAYLIGHT
BEGIN:STANDARD
TZOFFSETFROM:-0400
TZOFFSETTO:-0500
TZNAME:EST
DTSTART:20231105T060000
END:STANDARD
BEGIN:DAYLIGHT
TZOFFSETFROM:-0500
TZOFFSETTO:-0400
TZNAME:EDT
DTSTART:20240310T070000
END:DAYLIGHT
BEGIN:STANDARD
TZOFFSETFROM:-0400
TZOFFSETTO:-0500
TZNAME:EST
DTSTART:20241103T060000
END:STANDARD
END:VTIMEZONE
BEGIN:VEVENT
DTSTART;TZID=America/New_York:20231017T190000
DTEND;TZID=America/New_York:20231017T203000
DTSTAMP:20260422T020559
CREATED:20230920T204646Z
LAST-MODIFIED:20231017T140830Z
UID:1459-1697569200-1697574600@germantownhomewood.com
SUMMARY:GHCA Update from Poplar Trail Committee Meeting with the City (all community members welcome)
DESCRIPTION:Meeting with GHCA Poplar Trail Committee & City of Annapolis Planners and Consultants to preview and discuss preliminary features and designs of the Poplar Trail. All community members are welcome at 7:00PM\, Tuesday\, October 17th at the Michael E. Busch Annapolis Library. \n 
URL:https://germantownhomewood.com/event/poplar-trail-committee-meeting-with-the-city-all-community-members-welcome/
LOCATION:Michael E. Busch Annapolis Library\, 1410 West Street\, Annapolis\, MD\, 21401
ATTACH;FMTTYPE=image/jpeg:https://germantownhomewood.com/wp-content/uploads/2020/07/93129931_10223225145439562_2402263530360274944_n.jpg
ORGANIZER;CN="GHCA":MAILTO:ghca21401@gmail.com
END:VEVENT
END:VCALENDAR