BEGIN:VCALENDAR
VERSION:2.0
PRODID:-//Germantown-Homewood - ECPv6.15.20//NONSGML v1.0//EN
CALSCALE:GREGORIAN
METHOD:PUBLISH
X-WR-CALNAME:Germantown-Homewood
X-ORIGINAL-URL:https://germantownhomewood.com
X-WR-CALDESC:Events for Germantown-Homewood
REFRESH-INTERVAL;VALUE=DURATION:PT1H
X-Robots-Tag:noindex
X-PUBLISHED-TTL:PT1H
BEGIN:VTIMEZONE
TZID:America/New_York
BEGIN:DAYLIGHT
TZOFFSETFROM:-0500
TZOFFSETTO:-0400
TZNAME:EDT
DTSTART:20220313T070000
END:DAYLIGHT
BEGIN:STANDARD
TZOFFSETFROM:-0400
TZOFFSETTO:-0500
TZNAME:EST
DTSTART:20221106T060000
END:STANDARD
BEGIN:DAYLIGHT
TZOFFSETFROM:-0500
TZOFFSETTO:-0400
TZNAME:EDT
DTSTART:20230312T070000
END:DAYLIGHT
BEGIN:STANDARD
TZOFFSETFROM:-0400
TZOFFSETTO:-0500
TZNAME:EST
DTSTART:20231105T060000
END:STANDARD
BEGIN:DAYLIGHT
TZOFFSETFROM:-0500
TZOFFSETTO:-0400
TZNAME:EDT
DTSTART:20240310T070000
END:DAYLIGHT
BEGIN:STANDARD
TZOFFSETFROM:-0400
TZOFFSETTO:-0500
TZNAME:EST
DTSTART:20241103T060000
END:STANDARD
END:VTIMEZONE
BEGIN:VEVENT
DTSTART;TZID=America/New_York:20230905T190000
DTEND;TZID=America/New_York:20230905T200000
DTSTAMP:20260422T002600
CREATED:20230829T204853Z
LAST-MODIFIED:20230829T205649Z
UID:1399-1693940400-1693944000@germantownhomewood.com
SUMMARY:Zoom Comprehensive Plan Meeting with Eric Leshinsky (Annapolis Comprehensive Planning) and Karma O'Neill (Ward 2 Alderwoman)
DESCRIPTION:Missed the July 18th Comprehensive Plan meeting? Want to learn highlights related to GHCA? Join GHCA via Zoom on Tuesday\, September 5th at 7 pm with Eric Leshinsky (Annapolis Comprehensive Planning) and Karma O’Neill\, Ward 2 Alderwoman.\nAlready have questions? Email to ghca21401@gmail.com so we can compile a list. \nZoom Link: https://us02web.zoom.us/j/89001160599?pwd=SWxvSHVNc2gzT2FYNUxUalYyZVlqZz09 \nWhat is a Comprehensive Plan?\nApproximately every 10 years\, Annapolis drafts a Comprehensive Plan. A Comprehensive Plan is a broad statement about the community\, looking approximately 20 years ahead.  The plan includes goals and strategies to achieve the goals\, with specific performance measures and targets that will help determine if these goals are being met. \nWhere can I read copies or highlights of the Comprehensive Plan?\nReview copies of the Draft Plan can be found at Michael E. Busch Library\, Eastport Annapolis Neck Library\, and the City Council Chambers at City Hall. \nOr\, read it online: https://annapolis-ahead-2040-annapolis.hub.arcgis.com \nHow do I leave comments on the draft plan?\nGo the city site and look for the area you want to leave a comment on: https://www.annapolis.gov/1446/2040-Comprehensive-Plan \nOr\, email Casey Ortiz in the office of Comprehensive Planning – csortiz@annapolis.gov \nHow can I review the last (2009) Comprehensive plan? \nhttps://www.annapolis.gov/562/2009-Comprehensive-Plan \nWhat if I can’t make it on September 5th?\nThe city has other\, in-person sessions scheduled for September 6th and September 9th at Pip Moyer. See attached image.
URL:https://germantownhomewood.com/event/zoom-comprehensive-plan-meeting-with-eric-leshinsky-annapolis-comprehensive-planning-and-karma-oneill-ward-2-alderwoman/
ATTACH;FMTTYPE=image/jpeg:https://germantownhomewood.com/wp-content/uploads/2023/08/Comprehensive-Plan-II-720f932f-30a5-6074-892d-f226e6dddf5e.jpg
END:VEVENT
END:VCALENDAR