BEGIN:VCALENDAR
VERSION:2.0
PRODID:-//Germantown-Homewood - ECPv6.15.20//NONSGML v1.0//EN
CALSCALE:GREGORIAN
METHOD:PUBLISH
X-ORIGINAL-URL:https://germantownhomewood.com
X-WR-CALDESC:Events for Germantown-Homewood
REFRESH-INTERVAL;VALUE=DURATION:PT1H
X-Robots-Tag:noindex
X-PUBLISHED-TTL:PT1H
BEGIN:VTIMEZONE
TZID:UTC
BEGIN:STANDARD
TZOFFSETFROM:+0000
TZOFFSETTO:+0000
TZNAME:UTC
DTSTART:20220101T000000
END:STANDARD
END:VTIMEZONE
BEGIN:VEVENT
DTSTART;VALUE=DATE:20230618
DTEND;VALUE=DATE:20230821
DTSTAMP:20260421T210233
CREATED:20230225T205552Z
LAST-MODIFIED:20230709T153300Z
UID:1238-1687046400-1692575999@germantownhomewood.com
SUMMARY:Farragut Farmers Market - Sundays\, June 18-August 20
DESCRIPTION:Your hyper-local farmers market is back! The Farragut Farmers Market will open on Sunday\, June 18th at 9:00AM on the grass at Navy Stadium (at the corner of Cedar Park & Farragut Ave). Two Sundays have been added to the market calendar bringing the season to 10 markets! It will be open Sundays through August 20\, 9:00AM-1:00PM. \nApplications are currently open for vendors through April 30\, 2023. The market team is also searching for musicians interested in performing\, volunteers who would like to help out\, and community organizations who would like to participate. Forms and information can be found on their website\, or you can email your questions to farragutmarketannapolis@gmail.com. \nhttps://docs.google.com/forms/d/e/1FAIpQLSdOsSh85qSDrcjWwvgQxIqJ3hEoi_1iucuc6aZilc6e8JuXZg/viewform?fbclid=IwAR2R7Qe-6aWN-4iIcT_hMqHX9tOF5I00XZ5_HuyGrPZQ1XP6Su–ME5KccE \n  \n 
URL:https://germantownhomewood.com/event/farragut-farmers-market-sundays-june-18-august-20/
LOCATION:Navy-Marine Corp Memorial Stadium
ATTACH;FMTTYPE=image/jpeg:https://germantownhomewood.com/wp-content/uploads/2023/02/qtq80-nBOwiU.jpeg
END:VEVENT
END:VCALENDAR