BEGIN:VCALENDAR
VERSION:2.0
PRODID:-//Germantown-Homewood - ECPv6.15.20//NONSGML v1.0//EN
CALSCALE:GREGORIAN
METHOD:PUBLISH
X-ORIGINAL-URL:https://germantownhomewood.com
X-WR-CALDESC:Events for Germantown-Homewood
REFRESH-INTERVAL;VALUE=DURATION:PT1H
X-Robots-Tag:noindex
X-PUBLISHED-TTL:PT1H
BEGIN:VTIMEZONE
TZID:America/New_York
BEGIN:DAYLIGHT
TZOFFSETFROM:-0500
TZOFFSETTO:-0400
TZNAME:EDT
DTSTART:20220313T070000
END:DAYLIGHT
BEGIN:STANDARD
TZOFFSETFROM:-0400
TZOFFSETTO:-0500
TZNAME:EST
DTSTART:20221106T060000
END:STANDARD
BEGIN:DAYLIGHT
TZOFFSETFROM:-0500
TZOFFSETTO:-0400
TZNAME:EDT
DTSTART:20230312T070000
END:DAYLIGHT
BEGIN:STANDARD
TZOFFSETFROM:-0400
TZOFFSETTO:-0500
TZNAME:EST
DTSTART:20231105T060000
END:STANDARD
BEGIN:DAYLIGHT
TZOFFSETFROM:-0500
TZOFFSETTO:-0400
TZNAME:EDT
DTSTART:20240310T070000
END:DAYLIGHT
BEGIN:STANDARD
TZOFFSETFROM:-0400
TZOFFSETTO:-0500
TZNAME:EST
DTSTART:20241103T060000
END:STANDARD
END:VTIMEZONE
BEGIN:VEVENT
DTSTART;TZID=America/New_York:20230506T090000
DTEND;TZID=America/New_York:20230506T120000
DTSTAMP:20260421T173627
CREATED:20230430T202333Z
LAST-MODIFIED:20230504T173402Z
UID:1353-1683363600-1683374400@germantownhomewood.com
SUMMARY:Germantown Homewood Yard Sale
DESCRIPTION:Have too many things in storage or taking up space in your house that you just aren’t using? Sign up for the GHCA Yard Sale for Saturday\, May 6th from 9AM to 12:00PM\, rain date is Sunday\, May 7th. See the GHCA Facebook page for more details and updates\, search for Yard Sale or Megan Ullman to sign up in post comments. \nLocation: Your yard/driveway\nSee the Facebook group or email ghca21401@gmail.com to add your participating address. \nThank you to Meghan Ullman and Sarah Evans for coordinating!
URL:https://germantownhomewood.com/event/germantown-homewood-yard-sale/
ATTACH;FMTTYPE=image/jpeg:https://germantownhomewood.com/wp-content/uploads/2023/04/Yard-Sale-2023-342393501_904655683975488_4982840757806511310_n.jpg
ORGANIZER;CN="GHCA":MAILTO:ghca21401@gmail.com
END:VEVENT
END:VCALENDAR