BEGIN:VCALENDAR
VERSION:2.0
PRODID:-//Germantown-Homewood - ECPv6.15.20//NONSGML v1.0//EN
CALSCALE:GREGORIAN
METHOD:PUBLISH
X-WR-CALNAME:Germantown-Homewood
X-ORIGINAL-URL:https://germantownhomewood.com
X-WR-CALDESC:Events for Germantown-Homewood
REFRESH-INTERVAL;VALUE=DURATION:PT1H
X-Robots-Tag:noindex
X-PUBLISHED-TTL:PT1H
BEGIN:VTIMEZONE
TZID:America/New_York
BEGIN:DAYLIGHT
TZOFFSETFROM:-0500
TZOFFSETTO:-0400
TZNAME:EDT
DTSTART:20220313T070000
END:DAYLIGHT
BEGIN:STANDARD
TZOFFSETFROM:-0400
TZOFFSETTO:-0500
TZNAME:EST
DTSTART:20221106T060000
END:STANDARD
BEGIN:DAYLIGHT
TZOFFSETFROM:-0500
TZOFFSETTO:-0400
TZNAME:EDT
DTSTART:20230312T070000
END:DAYLIGHT
BEGIN:STANDARD
TZOFFSETFROM:-0400
TZOFFSETTO:-0500
TZNAME:EST
DTSTART:20231105T060000
END:STANDARD
BEGIN:DAYLIGHT
TZOFFSETFROM:-0500
TZOFFSETTO:-0400
TZNAME:EDT
DTSTART:20240310T070000
END:DAYLIGHT
BEGIN:STANDARD
TZOFFSETFROM:-0400
TZOFFSETTO:-0500
TZNAME:EST
DTSTART:20241103T060000
END:STANDARD
END:VTIMEZONE
BEGIN:VEVENT
DTSTART;TZID=America/New_York:20230501T100000
DTEND;TZID=America/New_York:20230501T193000
DTSTAMP:20260421T172315
CREATED:20230430T200248Z
LAST-MODIFIED:20230430T200248Z
UID:1349-1682935200-1682969400@germantownhomewood.com
SUMMARY:GHCA May Day - May 1st Starting at 10:00AM
DESCRIPTION:The Downtown Historic District will be celebrating their 68th Annual May Day celebration by putting baskets of fresh-cut flowers in front of their homes and businesses by 10:00 a.m. on Monday\, May 1st. GHCA would also like to encourage our community members to share their own GHCA May Day spirit by creating their own floral displays. In the past\, even the kids have gotten involved in making their own displays to add to the fun. It’s a wonderful way to celebrate spring and beautify our community! Here are some details: \nBring in Spring by displaying a beautiful basket of fresh flowers on your front door or doorstep for all your neighbors to enjoy!\n\nParticipation Guidelines:\n\n• All flower basket (any size) entries must be displayed on your front door or doorstep by Monday\, May 1st by 10am. The judges will tour the Homewood/Germantown neighborhood rain or shine.\n• Children under 12 can enter their own baskets.\n• A note card with name\, address\, and contact information must be attached to the basket. If entering for a child\, please specify age on card.\n• 1st and 2nd place winners will be chosen in the ADULT category. All Children entries will be considered winners!\nPictures of all baskets will be posted on the Germantown Homewood FB Page; names of all participants will be in the next Newsletter.\nPlease PM me your address or email to Stuart Rice srice429@gmail.com up until 8:00AM on Monday\, May 1st\, participating addresses will be posted on the GHCA Facebook page on Monday by 9:00AM.\n\n• If you’d like to be a judge\, please respond here or email Stuart Rice at srice429@gmail.com\n\nThis is a FAVORITE GH tradition that grows in participation each year… join in the fun!\n 
URL:https://germantownhomewood.com/event/ghca-may-day-may-1st-starting-at-1000am-2/
ATTACH;FMTTYPE=image/jpeg:https://germantownhomewood.com/wp-content/uploads/2022/04/IMG_7368-1.jpg
ORGANIZER;CN="GHCA":MAILTO:ghca21401@gmail.com
END:VEVENT
BEGIN:VEVENT
DTSTART;TZID=America/New_York:20230501T183000
DTEND;TZID=America/New_York:20230501T200000
DTSTAMP:20260421T172315
CREATED:20230404T173930Z
LAST-MODIFIED:20230430T194805Z
UID:1282-1682965800-1682971200@germantownhomewood.com
SUMMARY:GHCA Annual Meeting
DESCRIPTION:Join your neighbors at the Annual GHCA Meeting at the Library. Hear from the GHCA board\, Annapolis Planning and Zoning\, and Alderwomen Pindell-Charles and O’Neill. If you would like to submit a question or add something to the agenda\, please email ghca21401@gmail.com. \nAgenda \n6:30 – Meet and Greet \n7:00 – Reports from Alderwomen O’Neill (Ward 2) and Pindell Charles (Ward 3) \n7:15 – Association Update \n7:45 – Report from Eric Leshinsky and Jasmine Wilding\, City of Annapolis Planning & Zoning \n8:00 – Q&A \n8:30 – Adjourn \nAre you interested in occasionally volunteering with GHCA? Joining the Board?  Sign up here! \n 
URL:https://germantownhomewood.com/event/ghca-annual-meeting-may-1/
LOCATION:Michael E. Busch Annapolis Library\, 1410 West Street\, Annapolis\, MD\, 21401
ATTACH;FMTTYPE=image/jpeg:https://germantownhomewood.com/wp-content/uploads/2022/08/qtq80-Dkx1Ms.jpeg
ORGANIZER;CN="GHCA":MAILTO:ghca21401@gmail.com
END:VEVENT
END:VCALENDAR